BEGIN:VCALENDAR
VERSION:2.0
PRODID:-//Tennisclub Blau-Weiss - ECPv4.6.26.1//NONSGML v1.0//EN
CALSCALE:GREGORIAN
METHOD:PUBLISH
X-WR-CALNAME:Tennisclub Blau-Weiss
X-ORIGINAL-URL:https://www.tc-blauweiss-suro.de
X-WR-CALDESC:Veranstaltungen für Tennisclub Blau-Weiss
BEGIN:VEVENT
DTSTART;TZID=Europe/Berlin:20250706T090000
DTEND;TZID=Europe/Berlin:20250706T140000
DTSTAMP:20260422T114004
CREATED:20250607T063623Z
LAST-MODIFIED:20250607T063623Z
UID:5603-1751792400-1751810400@www.tc-blauweiss-suro.de
SUMMARY:Auswärtsspiel: Herren vs. TC Röthenbach/Altdorf
DESCRIPTION:
URL:https://www.tc-blauweiss-suro.de/event/auswaertsspiel-herren-vs-tc-roethenbach-altdorf/
CATEGORIES:Spieltag Sommer 2025
END:VEVENT
END:VCALENDAR