BEGIN:VCALENDAR
VERSION:2.0
PRODID:-//Tennisclub Blau-Weiss - ECPv4.6.26.1//NONSGML v1.0//EN
CALSCALE:GREGORIAN
METHOD:PUBLISH
X-WR-CALNAME:Tennisclub Blau-Weiss
X-ORIGINAL-URL:https://www.tc-blauweiss-suro.de
X-WR-CALDESC:Veranstaltungen für Tennisclub Blau-Weiss
BEGIN:VEVENT
DTSTART;TZID=Europe/Berlin:20190511T140000
DTEND;TZID=Europe/Berlin:20190511T200000
DTSTAMP:20260421T170652
CREATED:20190508T140115Z
LAST-MODIFIED:20190508T202343Z
UID:4089-1557583200-1557604800@www.tc-blauweiss-suro.de
SUMMARY:DAMEN 40
DESCRIPTION:TC BW Sulzbach-Rosenberg VS TV Nabburg\n\n| DAMEN 40 BEZIRKSKLASSE 2 GR. 064 \n| Mannschaftsportrait auf btv.de: TC BW SULZBACH-ROSENBERG (08050) – DAMEN 40\, SOMMER 2019 \n| TABELLE / SPIELPLAN \n
URL:https://www.tc-blauweiss-suro.de/event/damen-40-bezirksklasse-2-gr-064/
LOCATION:TC Blau-Weiß Sulzbach-Rosenberg\, Lobenhofstraße 9\, Sulzbach-Rosenberg\, Bayern\, 92232\, Deutschland
CATEGORIES:Turniertermine 2019
ORGANIZER;CN="Englhard%20Judith":MAILTO:info@tc-blauweiss-suro.de
END:VEVENT
END:VCALENDAR