BEGIN:VCALENDAR
VERSION:2.0
PRODID:-//Tennisclub Blau-Weiss - ECPv4.6.26.1//NONSGML v1.0//EN
CALSCALE:GREGORIAN
METHOD:PUBLISH
X-WR-CALNAME:Tennisclub Blau-Weiss
X-ORIGINAL-URL:https://www.tc-blauweiss-suro.de
X-WR-CALDESC:Veranstaltungen für Tennisclub Blau-Weiss
BEGIN:VEVENT
DTSTART;TZID=Europe/Berlin:20230715T140000
DTEND;TZID=Europe/Berlin:20230715T140000
DTSTAMP:20260421T151644
CREATED:20230217T140728Z
LAST-MODIFIED:20230217T140728Z
UID:4868-1689429600-1689429600@www.tc-blauweiss-suro.de
SUMMARY:H40
DESCRIPTION:TC BW Sulzbach / TC Rot-Blau Regensburg \n
URL:https://www.tc-blauweiss-suro.de/event/h40-10/
END:VEVENT
END:VCALENDAR