BEGIN:VCALENDAR
VERSION:2.0
PRODID:-//Tennisclub Blau-Weiss - ECPv4.6.26.1//NONSGML v1.0//EN
CALSCALE:GREGORIAN
METHOD:PUBLISH
X-WR-CALNAME:Tennisclub Blau-Weiss
X-ORIGINAL-URL:https://www.tc-blauweiss-suro.de
X-WR-CALDESC:Veranstaltungen für Tennisclub Blau-Weiss
BEGIN:VEVENT
DTSTART;TZID=Europe/Berlin:20240302T160000
DTEND;TZID=Europe/Berlin:20240302T160000
DTSTAMP:20260421T164234
CREATED:20231111T132342Z
LAST-MODIFIED:20231111T132342Z
UID:5362-1709395200-1709395200@www.tc-blauweiss-suro.de
SUMMARY:H40
DESCRIPTION:TSV Kareth Lappersd. /TC BW Sulzbach \n
URL:https://www.tc-blauweiss-suro.de/event/h40-15/
END:VEVENT
END:VCALENDAR