BEGIN:VCALENDAR
VERSION:2.0
PRODID:-//Tennisclub Blau-Weiss - ECPv4.6.26.1//NONSGML v1.0//EN
CALSCALE:GREGORIAN
METHOD:PUBLISH
X-WR-CALNAME:Tennisclub Blau-Weiss
X-ORIGINAL-URL:https://www.tc-blauweiss-suro.de
X-WR-CALDESC:Veranstaltungen für Tennisclub Blau-Weiss
BEGIN:VEVENT
DTSTART;TZID=Europe/Berlin:20230204T170800
DTEND;TZID=Europe/Berlin:20230204T220000
DTSTAMP:20260421T151725
CREATED:20221127T124304Z
LAST-MODIFIED:20221127T124304Z
UID:4575-1675530480-1675548000@www.tc-blauweiss-suro.de
SUMMARY:H40
DESCRIPTION:Sa. 04.02.2023\, 17:00\nTC BW Sulzbach-Rosenberg\nTC Grün-Rot Weiden \n
URL:https://www.tc-blauweiss-suro.de/event/h40/
END:VEVENT
END:VCALENDAR