BEGIN:VCALENDAR
VERSION:2.0
PRODID:-//Tennisclub Blau-Weiss - ECPv4.6.26.1//NONSGML v1.0//EN
CALSCALE:GREGORIAN
METHOD:PUBLISH
X-WR-CALNAME:Tennisclub Blau-Weiss
X-ORIGINAL-URL:https://www.tc-blauweiss-suro.de
X-WR-CALDESC:Veranstaltungen für Tennisclub Blau-Weiss
BEGIN:VEVENT
DTSTART;TZID=Europe/Berlin:20230708T140000
DTEND;TZID=Europe/Berlin:20230708T140000
DTSTAMP:20260421T133753
CREATED:20230306T134331Z
LAST-MODIFIED:20230306T134331Z
UID:4884-1688824800-1688824800@www.tc-blauweiss-suro.de
SUMMARY:H50
DESCRIPTION:TSV Wolfstein / TC BW Sulzbach \n
URL:https://www.tc-blauweiss-suro.de/event/h50-6/
END:VEVENT
END:VCALENDAR