BEGIN:VCALENDAR
VERSION:2.0
PRODID:-//Tennisclub Blau-Weiss - ECPv4.6.26.1//NONSGML v1.0//EN
CALSCALE:GREGORIAN
METHOD:PUBLISH
X-WR-CALNAME:Tennisclub Blau-Weiss
X-ORIGINAL-URL:https://www.tc-blauweiss-suro.de
X-WR-CALDESC:Veranstaltungen für Tennisclub Blau-Weiss
BEGIN:VEVENT
DTSTART;TZID=Europe/Berlin:20230722T140000
DTEND;TZID=Europe/Berlin:20230722T140000
DTSTAMP:20260421T150017
CREATED:20230306T134333Z
LAST-MODIFIED:20230306T134333Z
UID:4886-1690034400-1690034400@www.tc-blauweiss-suro.de
SUMMARY:H50
DESCRIPTION:TC BW Sulzbach / FSV Weißenbrunn \n
URL:https://www.tc-blauweiss-suro.de/event/h50-8/
END:VEVENT
END:VCALENDAR