BEGIN:VCALENDAR
VERSION:2.0
PRODID:-//Tennisclub Blau-Weiss - ECPv4.6.26.1//NONSGML v1.0//EN
CALSCALE:GREGORIAN
METHOD:PUBLISH
X-WR-CALNAME:Tennisclub Blau-Weiss
X-ORIGINAL-URL:https://www.tc-blauweiss-suro.de
X-WR-CALDESC:Veranstaltungen für Tennisclub Blau-Weiss
BEGIN:VEVENT
DTSTART;TZID=Europe/Berlin:20230128T170000
DTEND;TZID=Europe/Berlin:20230128T220000
DTSTAMP:20260421T195651
CREATED:20221127T122023Z
LAST-MODIFIED:20221127T122023Z
UID:4559-1674925200-1674943200@www.tc-blauweiss-suro.de
SUMMARY:H50
DESCRIPTION:Sa. 28.01.2023\, 17:00\nTC BW Sulzbach-Rosenberg\nTC Kümmersbruck \n
URL:https://www.tc-blauweiss-suro.de/event/h50/
END:VEVENT
END:VCALENDAR