BEGIN:VCALENDAR
VERSION:2.0
PRODID:-//Tennisclub Blau-Weiss - ECPv4.6.26.1//NONSGML v1.0//EN
CALSCALE:GREGORIAN
METHOD:PUBLISH
X-WR-CALNAME:Tennisclub Blau-Weiss
X-ORIGINAL-URL:https://www.tc-blauweiss-suro.de
X-WR-CALDESC:Veranstaltungen für Tennisclub Blau-Weiss
BEGIN:VEVENT
DTSTART;TZID=Europe/Berlin:20230628T110000
DTEND;TZID=Europe/Berlin:20230628T110000
DTSTAMP:20260421T150011
CREATED:20230306T134335Z
LAST-MODIFIED:20230306T134335Z
UID:4890-1687950000-1687950000@www.tc-blauweiss-suro.de
SUMMARY:H65
DESCRIPTION:TB Roding / TC BW Sulzbach \n
URL:https://www.tc-blauweiss-suro.de/event/h65-4/
END:VEVENT
END:VCALENDAR