BEGIN:VCALENDAR
VERSION:2.0
PRODID:-//Tennisclub Blau-Weiss - ECPv4.6.26.1//NONSGML v1.0//EN
CALSCALE:GREGORIAN
METHOD:PUBLISH
X-WR-CALNAME:Tennisclub Blau-Weiss
X-ORIGINAL-URL:https://www.tc-blauweiss-suro.de
X-WR-CALDESC:Veranstaltungen für Tennisclub Blau-Weiss
BEGIN:VEVENT
DTSTART;TZID=Europe/Berlin:20230510T110000
DTEND;TZID=Europe/Berlin:20230510T110000
DTSTAMP:20260421T181232
CREATED:20230306T134333Z
LAST-MODIFIED:20230306T134333Z
UID:4887-1683716400-1683716400@www.tc-blauweiss-suro.de
SUMMARY:H65
DESCRIPTION:SC Sinzing / TC BW Sulzbach \n
URL:https://www.tc-blauweiss-suro.de/event/h65/
END:VEVENT
END:VCALENDAR