BEGIN:VCALENDAR
VERSION:2.0
PRODID:-//Tennisclub Blau-Weiss - ECPv4.6.26.1//NONSGML v1.0//EN
CALSCALE:GREGORIAN
METHOD:PUBLISH
X-WR-CALNAME:Tennisclub Blau-Weiss
X-ORIGINAL-URL:https://www.tc-blauweiss-suro.de
X-WR-CALDESC:Veranstaltungen für Tennisclub Blau-Weiss
BEGIN:VEVENT
DTSTART;TZID=Europe/Berlin:20250621T130000
DTEND;TZID=Europe/Berlin:20250621T190000
DTSTAMP:20260422T045242
CREATED:20250607T063200Z
LAST-MODIFIED:20250607T063200Z
UID:5595-1750510800-1750532400@www.tc-blauweiss-suro.de
SUMMARY:Heimspiel: Herren 50 vs. SV Schwaig/Nürnberg
DESCRIPTION:
URL:https://www.tc-blauweiss-suro.de/event/heimspiel-herren-50-vs-sv-schwaig-nuernberg/
CATEGORIES:Spieltag Sommer 2025
END:VEVENT
END:VCALENDAR