BEGIN:VCALENDAR
VERSION:2.0
PRODID:-//Tennisclub Blau-Weiss - ECPv4.6.26.1//NONSGML v1.0//EN
CALSCALE:GREGORIAN
METHOD:PUBLISH
X-WR-CALNAME:Tennisclub Blau-Weiss
X-ORIGINAL-URL:https://www.tc-blauweiss-suro.de
X-WR-CALDESC:Veranstaltungen für Tennisclub Blau-Weiss
BEGIN:VEVENT
DTSTART;TZID=Europe/Berlin:20250622T100000
DTEND;TZID=Europe/Berlin:20250622T150000
DTSTAMP:20260422T063721
CREATED:20250607T063251Z
LAST-MODIFIED:20250607T063433Z
UID:5597-1750586400-1750604400@www.tc-blauweiss-suro.de
SUMMARY:Heimspiel: Herren vs. SV Förrenbach
DESCRIPTION:
URL:https://www.tc-blauweiss-suro.de/event/heimspiel-herren-vs-sv-foerrenbach/
CATEGORIES:Spieltag Sommer 2025
END:VEVENT
END:VCALENDAR