BEGIN:VCALENDAR
VERSION:2.0
PRODID:-//Tennisclub Blau-Weiss - ECPv4.6.26.1//NONSGML v1.0//EN
CALSCALE:GREGORIAN
METHOD:PUBLISH
X-WR-CALNAME:Tennisclub Blau-Weiss
X-ORIGINAL-URL:https://www.tc-blauweiss-suro.de
X-WR-CALDESC:Veranstaltungen für Tennisclub Blau-Weiss
BEGIN:VEVENT
DTSTART;TZID=Europe/Berlin:20250713T100000
DTEND;TZID=Europe/Berlin:20250713T170000
DTSTAMP:20260422T062251
CREATED:20250607T064038Z
LAST-MODIFIED:20250607T064038Z
UID:5613-1752400800-1752426000@www.tc-blauweiss-suro.de
SUMMARY:Heimspiel: Herren vs. TC Amberg am Schanzl III
DESCRIPTION:
URL:https://www.tc-blauweiss-suro.de/event/heimspiel-herren-vs-tc-amberg-am-schanzl-iii/
CATEGORIES:Spieltag Sommer 2025
END:VEVENT
END:VCALENDAR