BEGIN:VCALENDAR
VERSION:2.0
PRODID:-//Tennisclub Blau-Weiss - ECPv4.6.26.1//NONSGML v1.0//EN
CALSCALE:GREGORIAN
METHOD:PUBLISH
X-WR-CALNAME:Tennisclub Blau-Weiss
X-ORIGINAL-URL:https://www.tc-blauweiss-suro.de
X-WR-CALDESC:Veranstaltungen für Tennisclub Blau-Weiss
BEGIN:VEVENT
DTSTART;TZID=Europe/Berlin:20250711T150000
DTEND;TZID=Europe/Berlin:20250711T190000
DTSTAMP:20260422T112352
CREATED:20250607T063724Z
LAST-MODIFIED:20250607T063724Z
UID:5605-1752246000-1752260400@www.tc-blauweiss-suro.de
SUMMARY:Heimspiel: Knaben 15 vs. TV Burglengenfeld
DESCRIPTION:
URL:https://www.tc-blauweiss-suro.de/event/heimspiel-knaben-15-vs-tv-burglengenfeld/
CATEGORIES:Spieltag Sommer 2025
END:VEVENT
END:VCALENDAR