BEGIN:VCALENDAR
VERSION:2.0
PRODID:-//Tennisclub Blau-Weiss - ECPv4.6.26.1//NONSGML v1.0//EN
CALSCALE:GREGORIAN
METHOD:PUBLISH
X-WR-CALNAME:Tennisclub Blau-Weiss
X-ORIGINAL-URL:https://www.tc-blauweiss-suro.de
X-WR-CALDESC:Veranstaltungen für Tennisclub Blau-Weiss
BEGIN:VEVENT
DTSTART;TZID=Europe/Berlin:20240707T140000
DTEND;TZID=Europe/Berlin:20240707T140000
DTSTAMP:20260422T010527
CREATED:20240329T193529Z
LAST-MODIFIED:20240411T185952Z
UID:5410-1720360800-1720360800@www.tc-blauweiss-suro.de
SUMMARY:HeN2
DESCRIPTION:TC RW Erlangen III / TC BW Sulzbach \n
URL:https://www.tc-blauweiss-suro.de/event/hen2-5/
END:VEVENT
END:VCALENDAR