BEGIN:VCALENDAR
VERSION:2.0
PRODID:-//Tennisclub Blau-Weiss - ECPv4.6.26.1//NONSGML v1.0//EN
CALSCALE:GREGORIAN
METHOD:PUBLISH
X-WR-CALNAME:Tennisclub Blau-Weiss
X-ORIGINAL-URL:https://www.tc-blauweiss-suro.de
X-WR-CALDESC:Veranstaltungen für Tennisclub Blau-Weiss
BEGIN:VEVENT
DTSTART;TZID=Europe/Berlin:20240623T090000
DTEND;TZID=Europe/Berlin:20240623T090000
DTSTAMP:20260422T010733
CREATED:20240329T193531Z
LAST-MODIFIED:20240411T185955Z
UID:5416-1719133200-1719133200@www.tc-blauweiss-suro.de
SUMMARY:HeN5
DESCRIPTION:TC BW Sulzbach & C Vilseck II \n
URL:https://www.tc-blauweiss-suro.de/event/hen5-4/
END:VEVENT
END:VCALENDAR