BEGIN:VCALENDAR
VERSION:2.0
PRODID:-//Tennisclub Blau-Weiss - ECPv4.6.26.1//NONSGML v1.0//EN
CALSCALE:GREGORIAN
METHOD:PUBLISH
X-WR-CALNAME:Tennisclub Blau-Weiss
X-ORIGINAL-URL:https://www.tc-blauweiss-suro.de
X-WR-CALDESC:Veranstaltungen für Tennisclub Blau-Weiss
BEGIN:VEVENT
DTSTART;TZID=Europe/Berlin:20240225T110000
DTEND;TZID=Europe/Berlin:20240225T110000
DTSTAMP:20260421T181226
CREATED:20231111T132347Z
LAST-MODIFIED:20231111T132347Z
UID:5374-1708858800-1708858800@www.tc-blauweiss-suro.de
SUMMARY:Herren
DESCRIPTION:TC Grün Weiß Nittenau / TC BW Sulzbach \n
URL:https://www.tc-blauweiss-suro.de/event/herren-23/
END:VEVENT
END:VCALENDAR