BEGIN:VCALENDAR
VERSION:2.0
PRODID:-//Tennisclub Blau-Weiss - ECPv4.6.26.1//NONSGML v1.0//EN
CALSCALE:GREGORIAN
METHOD:PUBLISH
X-WR-CALNAME:Tennisclub Blau-Weiss
X-ORIGINAL-URL:https://www.tc-blauweiss-suro.de
X-WR-CALDESC:Veranstaltungen für Tennisclub Blau-Weiss
BEGIN:VEVENT
DTSTART;TZID=Europe/Berlin:20190720T140000
DTEND;TZID=Europe/Berlin:20190720T200000
DTSTAMP:20260422T064333
CREATED:20190508T230704Z
LAST-MODIFIED:20190508T230704Z
UID:4243-1563631200-1563652800@www.tc-blauweiss-suro.de
SUMMARY:HERREN 40 II
DESCRIPTION:TC BW Sulzbach-Rosenberg II VS 1. FC Deining\n\n| HERREN 40 KREISKLASSE 1 GR. 043 \n| Mannschaftsportrait auf btv.de: TC BW SULZBACH-ROSENBERG (08050) – HERREN 40\, SOMMER 2019 \n| TABELLE / SPIELPLAN \n
URL:https://www.tc-blauweiss-suro.de/event/herren-40-ii-6/
LOCATION:TC Blau-Weiß Sulzbach-Rosenberg\, Lobenhofstraße 9\, Sulzbach-Rosenberg\, Bayern\, 92232\, Deutschland
CATEGORIES:Turniertermine 2019
ORGANIZER;CN="R%C3%B6sner%20Alexander":MAILTO:info@tc-blauweiss-suro.de
END:VEVENT
END:VCALENDAR