BEGIN:VCALENDAR
VERSION:2.0
PRODID:-//Tennisclub Blau-Weiss - ECPv4.6.26.1//NONSGML v1.0//EN
CALSCALE:GREGORIAN
METHOD:PUBLISH
X-WR-CALNAME:Tennisclub Blau-Weiss
X-ORIGINAL-URL:https://www.tc-blauweiss-suro.de
X-WR-CALDESC:Veranstaltungen für Tennisclub Blau-Weiss
BEGIN:VEVENT
DTSTART;TZID=Europe/Berlin:20190601T140000
DTEND;TZID=Europe/Berlin:20190601T200000
DTSTAMP:20260422T193519
CREATED:20190508T210944Z
LAST-MODIFIED:20190508T210944Z
UID:4192-1559397600-1559419200@www.tc-blauweiss-suro.de
SUMMARY:HERREN 50
DESCRIPTION:TG Neunkirchen VS TC BW Sulzbach-Rosenberg II\n\n| HERREN 50 BEZIRKSKLASSE 2 GR. 048 \n| Mannschaftsportrait auf btv.de: TC BW SULZBACH-ROSENBERG (08050) – HERREN 50\, SOMMER 2019 \n| TABELLE / SPIELPLAN \n
URL:https://www.tc-blauweiss-suro.de/event/herren-50-3/
LOCATION:TG Neunkirchen\, An den Weihern 24a\, Weiden\, Bayern\, 92637\, Deutschland
CATEGORIES:Turniertermine 2019
END:VEVENT
END:VCALENDAR