BEGIN:VCALENDAR
VERSION:2.0
PRODID:-//Tennisclub Blau-Weiss - ECPv4.6.26.1//NONSGML v1.0//EN
CALSCALE:GREGORIAN
METHOD:PUBLISH
X-WR-CALNAME:Tennisclub Blau-Weiss
X-ORIGINAL-URL:https://www.tc-blauweiss-suro.de
X-WR-CALDESC:Veranstaltungen für Tennisclub Blau-Weiss
BEGIN:VEVENT
DTSTART;TZID=Europe/Berlin:20190706T140000
DTEND;TZID=Europe/Berlin:20190706T200000
DTSTAMP:20260422T210108
CREATED:20190508T220229Z
LAST-MODIFIED:20190508T220229Z
UID:4219-1562421600-1562443200@www.tc-blauweiss-suro.de
SUMMARY:HERREN 50
DESCRIPTION:TC Tirschenreuth VS TC BW Sulzbach-Rosenberg\n\n| HERREN 50 BEZIRKSKLASSE 2 GR. 048 \n| Mannschaftsportrait auf btv.de: TC BW SULZBACH-ROSENBERG (08050) – HERREN 50\, SOMMER 2019 \n| TABELLE / SPIELPLAN \n
URL:https://www.tc-blauweiss-suro.de/event/herren-50-4/
LOCATION:TC Tirschenreuth\, Franz-Heldmann-Str. 29\, Tirschenreuth\, Bayern\, 95643\, Deutschland
CATEGORIES:Turniertermine 2019
END:VEVENT
END:VCALENDAR