BEGIN:VCALENDAR
VERSION:2.0
PRODID:-//Tennisclub Blau-Weiss - ECPv4.6.26.1//NONSGML v1.0//EN
CALSCALE:GREGORIAN
METHOD:PUBLISH
X-WR-CALNAME:Tennisclub Blau-Weiss
X-ORIGINAL-URL:https://www.tc-blauweiss-suro.de
X-WR-CALDESC:Veranstaltungen für Tennisclub Blau-Weiss
BEGIN:VEVENT
DTSTART;TZID=Europe/Berlin:20190703T110000
DTEND;TZID=Europe/Berlin:20190703T180000
DTSTAMP:20260423T054854
CREATED:20190508T214619Z
LAST-MODIFIED:20190508T214620Z
UID:4213-1562151600-1562176800@www.tc-blauweiss-suro.de
SUMMARY:HERREN 65
DESCRIPTION:TC BW Sulzbach-Rosenberg VS SpVgg Pfreimd\n\n| HERREN 65 BEZIRKSLIGA GR. 057 \n| Mannschaftsportrait auf btv.de: TC BW SULZBACH-ROSENBERG (08050) – HERREN 65\, SOMMER 2019 \n| TABELLE / SPIELPLAN \n
URL:https://www.tc-blauweiss-suro.de/event/herren-65-4/
LOCATION:TC Blau-Weiß Sulzbach-Rosenberg\, Lobenhofstraße 9\, Sulzbach-Rosenberg\, Bayern\, 92232\, Deutschland
CATEGORIES:Turniertermine 2019
ORGANIZER;CN="Kredler%20Anton":MAILTO:info@tc-blauweiss-suro.de
END:VEVENT
END:VCALENDAR