BEGIN:VCALENDAR
VERSION:2.0
PRODID:-//Tennisclub Blau-Weiss - ECPv4.6.26.1//NONSGML v1.0//EN
CALSCALE:GREGORIAN
METHOD:PUBLISH
X-WR-CALNAME:Tennisclub Blau-Weiss
X-ORIGINAL-URL:https://www.tc-blauweiss-suro.de
X-WR-CALDESC:Veranstaltungen für Tennisclub Blau-Weiss
BEGIN:VEVENT
DTSTART;TZID=Europe/Berlin:20190710T110000
DTEND;TZID=Europe/Berlin:20190710T180000
DTSTAMP:20260422T155846
CREATED:20190508T224001Z
LAST-MODIFIED:20190508T224001Z
UID:4227-1562756400-1562781600@www.tc-blauweiss-suro.de
SUMMARY:HERREN 65
DESCRIPTION:TC Rot-Weiß Amberg VS TC BW Sulzbach-Rosenberg\n\n| HERREN 65 BEZIRKSLIGA GR. 057 \n| Mannschaftsportrait auf btv.de: TC BW SULZBACH-ROSENBERG (08050) – HERREN 65\, SOMMER 2019 \n| TABELLE / SPIELPLAN \n
URL:https://www.tc-blauweiss-suro.de/event/herren-65-5/
LOCATION:TC Rot-Weiß Amberg\, Werner-von-Siemens-Str. 25\, Amberg\, Bayern\, 92224\, Deutschland
CATEGORIES:Turniertermine 2019
END:VEVENT
END:VCALENDAR