BEGIN:VCALENDAR
VERSION:2.0
PRODID:-//Tennisclub Blau-Weiss - ECPv4.6.26.1//NONSGML v1.0//EN
CALSCALE:GREGORIAN
METHOD:PUBLISH
X-WR-CALNAME:Tennisclub Blau-Weiss
X-ORIGINAL-URL:https://www.tc-blauweiss-suro.de
X-WR-CALDESC:Veranstaltungen für Tennisclub Blau-Weiss
BEGIN:VEVENT
DTSTART;TZID=Europe/Berlin:20221204T140000
DTEND;TZID=Europe/Berlin:20221204T170000
DTSTAMP:20260421T165210
CREATED:20221127T122648Z
LAST-MODIFIED:20221130T093430Z
UID:4565-1670162400-1670173200@www.tc-blauweiss-suro.de
SUMMARY:Herren
DESCRIPTION:So. 04.12.2022\, 14:00\nTC BW Sulzbach-Rosenberg\nTSG Mantel-Weiherhammer \n
URL:https://www.tc-blauweiss-suro.de/event/herren-7/
END:VEVENT
END:VCALENDAR