BEGIN:VCALENDAR
VERSION:2.0
PRODID:-//Tennisclub Blau-Weiss - ECPv4.6.26.1//NONSGML v1.0//EN
CALSCALE:GREGORIAN
METHOD:PUBLISH
X-WR-CALNAME:Tennisclub Blau-Weiss
X-ORIGINAL-URL:https://www.tc-blauweiss-suro.de
X-WR-CALDESC:Veranstaltungen für Tennisclub Blau-Weiss
BEGIN:VEVENT
DTSTART;TZID=Europe/Berlin:20230129T150000
DTEND;TZID=Europe/Berlin:20230129T190000
DTSTAMP:20260421T162756
CREATED:20221127T123105Z
LAST-MODIFIED:20221127T123105Z
UID:4569-1675004400-1675018800@www.tc-blauweiss-suro.de
SUMMARY:Herren
DESCRIPTION:So. 29.01.2023\, 15:00\nTeG Steinwald-Fichtelgebirge\nTC BW Sulzbach-Rosenberg \n
URL:https://www.tc-blauweiss-suro.de/event/herren-9/
END:VEVENT
END:VCALENDAR