BEGIN:VCALENDAR
VERSION:2.0
PRODID:-//Tennisclub Blau-Weiss - ECPv4.6.26.1//NONSGML v1.0//EN
CALSCALE:GREGORIAN
METHOD:PUBLISH
X-WR-CALNAME:Tennisclub Blau-Weiss
X-ORIGINAL-URL:https://www.tc-blauweiss-suro.de
X-WR-CALDESC:Veranstaltungen für Tennisclub Blau-Weiss
BEGIN:VEVENT
DTSTART;TZID=Europe/Berlin:20240712T150000
DTEND;TZID=Europe/Berlin:20240712T150000
DTSTAMP:20260422T010944
CREATED:20240329T193539Z
LAST-MODIFIED:20240411T190002Z
UID:5441-1720796400-1720796400@www.tc-blauweiss-suro.de
SUMMARY:Knaben15
DESCRIPTION:SpVgg.Pirk II / TC BW Sulzbach \n
URL:https://www.tc-blauweiss-suro.de/event/knaben15-10/
END:VEVENT
END:VCALENDAR