BEGIN:VCALENDAR
VERSION:2.0
PRODID:-//Tennisclub Blau-Weiss - ECPv4.6.26.1//NONSGML v1.0//EN
CALSCALE:GREGORIAN
METHOD:PUBLISH
X-WR-CALNAME:Tennisclub Blau-Weiss
X-ORIGINAL-URL:https://www.tc-blauweiss-suro.de
X-WR-CALDESC:Veranstaltungen für Tennisclub Blau-Weiss
BEGIN:VEVENT
DTSTART;TZID=Europe/Berlin:20230610T090000
DTEND;TZID=Europe/Berlin:20230610T090000
DTSTAMP:20260421T150308
CREATED:20230306T134337Z
LAST-MODIFIED:20230306T134337Z
UID:4897-1686387600-1686387600@www.tc-blauweiss-suro.de
SUMMARY:Knaben15
DESCRIPTION:TC BW Sulzbach / SV Schwandorf-Ettmannsdorf II \n
URL:https://www.tc-blauweiss-suro.de/event/knaben15-2/
END:VEVENT
END:VCALENDAR