BEGIN:VCALENDAR
VERSION:2.0
PRODID:-//Tennisclub Blau-Weiss - ECPv4.6.26.1//NONSGML v1.0//EN
CALSCALE:GREGORIAN
METHOD:PUBLISH
X-WR-CALNAME:Tennisclub Blau-Weiss
X-ORIGINAL-URL:https://www.tc-blauweiss-suro.de
X-WR-CALDESC:Veranstaltungen für Tennisclub Blau-Weiss
BEGIN:VEVENT
DTSTART;TZID=Europe/Berlin:20230630T150000
DTEND;TZID=Europe/Berlin:20230630T150000
DTSTAMP:20260421T133932
CREATED:20230306T134337Z
LAST-MODIFIED:20230306T134337Z
UID:4899-1688137200-1688137200@www.tc-blauweiss-suro.de
SUMMARY:Knaben15
DESCRIPTION:TC BW Sulzbach / Jugend-TeG Vilstal III \n
URL:https://www.tc-blauweiss-suro.de/event/knaben15-4/
END:VEVENT
END:VCALENDAR