BEGIN:VCALENDAR
VERSION:2.0
PRODID:-//Tennisclub Blau-Weiss - ECPv4.6.26.1//NONSGML v1.0//EN
CALSCALE:GREGORIAN
METHOD:PUBLISH
X-WR-CALNAME:Tennisclub Blau-Weiss
X-ORIGINAL-URL:https://www.tc-blauweiss-suro.de
X-WR-CALDESC:Veranstaltungen für Tennisclub Blau-Weiss
BEGIN:VEVENT
DTSTART;TZID=Europe/Berlin:20240614T150000
DTEND;TZID=Europe/Berlin:20240614T150000
DTSTAMP:20260422T041750
CREATED:20240329T193538Z
LAST-MODIFIED:20240411T190000Z
UID:5438-1718377200-1718377200@www.tc-blauweiss-suro.de
SUMMARY:Knaben15
DESCRIPTION:TC BW Sulzbach / TC Vilseck \n
URL:https://www.tc-blauweiss-suro.de/event/knaben15-7/
END:VEVENT
END:VCALENDAR