BEGIN:VCALENDAR
VERSION:2.0
PRODID:-//Tennisclub Blau-Weiss - ECPv4.6.26.1//NONSGML v1.0//EN
CALSCALE:GREGORIAN
METHOD:PUBLISH
X-WR-CALNAME:Tennisclub Blau-Weiss
X-ORIGINAL-URL:https://www.tc-blauweiss-suro.de
X-WR-CALDESC:Veranstaltungen für Tennisclub Blau-Weiss
BEGIN:VEVENT
DTSTART;TZID=Europe/Berlin:20240705T150000
DTEND;TZID=Europe/Berlin:20240705T150000
DTSTAMP:20260421T233519
CREATED:20240329T193538Z
LAST-MODIFIED:20240411T190000Z
UID:5440-1720191600-1720191600@www.tc-blauweiss-suro.de
SUMMARY:Knaben15
DESCRIPTION:TC Kümmersbruck III / TC BW Sulzbach \n
URL:https://www.tc-blauweiss-suro.de/event/knaben15-9/
END:VEVENT
END:VCALENDAR