BEGIN:VCALENDAR
VERSION:2.0
PRODID:-//Tennisclub Blau-Weiss - ECPv4.6.26.1//NONSGML v1.0//EN
CALSCALE:GREGORIAN
METHOD:PUBLISH
X-WR-CALNAME:Tennisclub Blau-Weiss
X-ORIGINAL-URL:https://www.tc-blauweiss-suro.de
X-WR-CALDESC:Veranstaltungen für Tennisclub Blau-Weiss
BEGIN:VEVENT
DTSTART;TZID=Europe/Berlin:20230908T080000
DTEND;TZID=Europe/Berlin:20230910T170000
DTSTAMP:20260421T120532
CREATED:20230725T074158Z
LAST-MODIFIED:20230725T074400Z
UID:5177-1694160000-1694365200@www.tc-blauweiss-suro.de
SUMMARY:Landkreismeisterschaft
DESCRIPTION:Landkreismeisterschaften \nEinzel: 8.9. -10.9. \nDoppel 15.9. – 16.9. \nFinale 17.9. \n
URL:https://www.tc-blauweiss-suro.de/event/landkreismeisterschaft/
END:VEVENT
END:VCALENDAR