BEGIN:VCALENDAR
VERSION:2.0
PRODID:-//Tennisclub Blau-Weiss - ECPv4.6.26.1//NONSGML v1.0//EN
CALSCALE:GREGORIAN
METHOD:PUBLISH
X-WR-CALNAME:Tennisclub Blau-Weiss
X-ORIGINAL-URL:https://www.tc-blauweiss-suro.de
X-WR-CALDESC:Veranstaltungen für Tennisclub Blau-Weiss
BEGIN:VEVENT
DTSTART;TZID=Europe/Berlin:20190512T100000
DTEND;TZID=Europe/Berlin:20190512T170000
DTSTAMP:20260421T202205
CREATED:20190508T122158Z
LAST-MODIFIED:20190508T234727Z
UID:4056-1557655200-1557680400@www.tc-blauweiss-suro.de
SUMMARY:HERREN
DESCRIPTION:TC BW Sulzbach-Rosenberg VS TC Hohenbogen-Vordermais\n\n| HERREN KREISKLASSE 1 GR. 010 \n| Mannschaftsportrait auf btv.de: TC BW SULZBACH-ROSENBERG (08050) – HERREN\, SOMMER 2019 \n| TABELLE / SPIELPLAN \n
URL:https://www.tc-blauweiss-suro.de/event/spiel-am-12-05-2019/
LOCATION:TC Blau-Weiß Sulzbach-Rosenberg\, Lobenhofstraße 9\, Sulzbach-Rosenberg\, Bayern\, 92232\, Deutschland
CATEGORIES:Turniertermine 2019
ORGANIZER;CN="R%C3%B6sl%20Michael":MAILTO:info@tc-blauweiss-suro.de
END:VEVENT
END:VCALENDAR