BEGIN:VCALENDAR
VERSION:2.0
PRODID:-//Tennisclub Blau-Weiss - ECPv4.6.26.1//NONSGML v1.0//EN
CALSCALE:GREGORIAN
METHOD:PUBLISH
X-WR-CALNAME:Tennisclub Blau-Weiss
X-ORIGINAL-URL:https://www.tc-blauweiss-suro.de
X-WR-CALDESC:Veranstaltungen für Tennisclub Blau-Weiss
BEGIN:VEVENT
DTSTART;TZID=Europe/Berlin:20190512T100000
DTEND;TZID=Europe/Berlin:20190512T170000
DTSTAMP:20260421T184345
CREATED:20190508T123653Z
LAST-MODIFIED:20190509T105717Z
UID:4063-1557655200-1557680400@www.tc-blauweiss-suro.de
SUMMARY:H 14
DESCRIPTION:TC BW Sulzbach-Rosenberg VS TSV Tännesberg.\n\n| KNABEN 14 KREISKLASSE 1 JUGEND GR. 079 \n| Mannschaftsportrait auf btv.de: TC BW SULZBACH-ROSENBERG (08050) – KNABEN 14\, SOMMER 2019 \n| TABELLE / SPIELPLAN \n
URL:https://www.tc-blauweiss-suro.de/event/spiel-knaben-14/
LOCATION:TC Blau-Weiß Sulzbach-Rosenberg\, Lobenhofstraße 9\, Sulzbach-Rosenberg\, Bayern\, 92232\, Deutschland
CATEGORIES:Turniertermine 2019
ORGANIZER;CN="TC%20Blau-Wei%C3%9F%20Sulzbach-Rosenberg%20e.V.":MAILTO:info@tc-blauweiss-suro.de
END:VEVENT
END:VCALENDAR