BEGIN:VCALENDAR
VERSION:2.0
PRODID:-//Tennisclub Blau-Weiss - ECPv4.6.26.1//NONSGML v1.0//EN
CALSCALE:GREGORIAN
METHOD:PUBLISH
X-WR-CALNAME:Tennisclub Blau-Weiss
X-ORIGINAL-URL:https://www.tc-blauweiss-suro.de
X-WR-CALDESC:Veranstaltungen für Tennisclub Blau-Weiss
BEGIN:VEVENT
DTSTART;TZID=Europe/Berlin:20231213T190000
DTEND;TZID=Europe/Berlin:20231213T220000
DTSTAMP:20260421T212655
CREATED:20231020T080851Z
LAST-MODIFIED:20231020T080851Z
UID:5324-1702494000-1702504800@www.tc-blauweiss-suro.de
SUMMARY:Stammtisch
DESCRIPTION:Stammtisch ab 19:00 im Vereinsheim \nAnmeldung zwecks Essensplanung bei\nChristian Aures  0170 580634 \n
URL:https://www.tc-blauweiss-suro.de/event/stammtisch-5/
ATTACH;FMTTYPE=image/jpeg:https://www.tc-blauweiss-suro.de/wp-content/uploads/2023/01/20230111_192522.jpg
END:VEVENT
END:VCALENDAR